BEGIN:VCALENDAR
VERSION:2.0
PRODID:-//pretix//pretix-PROD_Wien//
BEGIN:VEVENT
UID:pretix-baeder-floridsdorf-25672@ticket.wien.gv.at
DTSTART;VALUE=DATE:20221019
DTEND;VALUE=DATE:20221020
DESCRIPTION:Tickets: https://ticket.wien.gv.at/baeder/floridsdorf/25672/\nV
 eranstalter: MA 44 Wiener Bäder
DTSTAMP:20260425T163504Z
SUMMARY:Badegäste Mi.
END:VEVENT
END:VCALENDAR
