BEGIN:VCALENDAR
VERSION:2.0
PRODID:-//pretix//pretix-PROD_Wien//
BEGIN:VEVENT
UID:pretix-baeder-floridsdorf-25422@ticket.wien.gv.at
DTSTART;VALUE=DATE:20220929
DTEND;VALUE=DATE:20220930
DESCRIPTION:Tickets: https://ticket.wien.gv.at/baeder/floridsdorf/25422/\nV
 eranstalter: MA 44 Wiener Bäder
DTSTAMP:20260425T221527Z
SUMMARY:Badegäste Do.
END:VEVENT
END:VCALENDAR
