BEGIN:VCALENDAR
VERSION:2.0
PRODID:-//pretix//pretix-PROD_Wien//
BEGIN:VEVENT
UID:pretix-baeder-floridsdorf-25410@ticket.wien.gv.at
DTSTART;VALUE=DATE:20220928
DTEND;VALUE=DATE:20220929
DESCRIPTION:Tickets: https://ticket.wien.gv.at/baeder/floridsdorf/25410/\nV
 eranstalter: MA 44 Wiener Bäder
DTSTAMP:20260425T163500Z
SUMMARY:Badegäste Mi.
END:VEVENT
END:VCALENDAR
