BEGIN:VCALENDAR
VERSION:2.0
PRODID:-//pretix//pretix-PROD_Wien//
BEGIN:VEVENT
UID:pretix-baeder-floridsdorf-25195@ticket.wien.gv.at
DTSTART;VALUE=DATE:20220914
DTEND;VALUE=DATE:20220915
DESCRIPTION:Tickets: https://ticket.wien.gv.at/baeder/floridsdorf/25195/\nV
 eranstalter: MA 44 Wiener Bäder
DTSTAMP:20260425T190836Z
SUMMARY:Badegäste Mi.
END:VEVENT
END:VCALENDAR
