BEGIN:VCALENDAR
VERSION:2.0
PRODID:-//pretix//pretix-PROD_Wien//
BEGIN:VEVENT
UID:pretix-baeder-floridsdorf-25070@ticket.wien.gv.at
DTSTART;VALUE=DATE:20220909
DTEND;VALUE=DATE:20220910
DESCRIPTION:Tickets: https://ticket.wien.gv.at/baeder/floridsdorf/25070/\nV
 eranstalter: MA 44 Wiener Bäder
DTSTAMP:20260425T170831Z
SUMMARY:Badegäste Di./Fr.
END:VEVENT
END:VCALENDAR
