BEGIN:VCALENDAR
VERSION:2.0
PRODID:-//pretix//pretix-PROD_Wien//
BEGIN:VEVENT
UID:pretix-baeder-floridsdorf-24973@ticket.wien.gv.at
DTSTART;VALUE=DATE:20220906
DTEND;VALUE=DATE:20220907
DESCRIPTION:Tickets: https://ticket.wien.gv.at/baeder/floridsdorf/24973/\nV
 eranstalter: MA 44 Wiener Bäder
DTSTAMP:20260425T174748Z
SUMMARY:Badegäste Di./Fr.
END:VEVENT
END:VCALENDAR
