BEGIN:VCALENDAR
VERSION:2.0
PRODID:-//pretix//pretix-PROD_Wien//
BEGIN:VEVENT
UID:pretix-baeder-floridsdorf-24690@ticket.wien.gv.at
DTSTART;VALUE=DATE:20220826
DTEND;VALUE=DATE:20220827
DESCRIPTION:Tickets: https://ticket.wien.gv.at/baeder/floridsdorf/24690/\nV
 eranstalter: MA 44 Wiener Bäder
DTSTAMP:20260426T000057Z
SUMMARY:Badegäste Di./Fr.
END:VEVENT
END:VCALENDAR
