BEGIN:VCALENDAR
VERSION:2.0
PRODID:-//pretix//pretix-PROD_Wien//
BEGIN:VEVENT
UID:pretix-baeder-floridsdorf-23603@ticket.wien.gv.at
DTSTART;VALUE=DATE:20220715
DTEND;VALUE=DATE:20220716
DESCRIPTION:Tickets: https://ticket.wien.gv.at/baeder/floridsdorf/23603/\nV
 eranstalter: MA 44 Wiener Bäder
DTSTAMP:20260426T003715Z
SUMMARY:Badegäste Di./Fr.
END:VEVENT
END:VCALENDAR
