BEGIN:VCALENDAR
VERSION:2.0
PRODID:-//pretix//pretix-PROD_Wien//
BEGIN:VEVENT
UID:pretix-baeder-floridsdorf-23466@ticket.wien.gv.at
DTSTART;VALUE=DATE:20220710
DTEND;VALUE=DATE:20220711
DESCRIPTION:Tickets: https://ticket.wien.gv.at/baeder/floridsdorf/23466/\nV
 eranstalter: MA 44 Wiener Bäder
DTSTAMP:20260425T201049Z
SUMMARY:Badegäste So.
END:VEVENT
END:VCALENDAR
