BEGIN:VCALENDAR
VERSION:2.0
PRODID:-//pretix//pretix-PROD_Wien//
BEGIN:VEVENT
UID:pretix-baeder-floridsdorf-23387@ticket.wien.gv.at
DTSTART;VALUE=DATE:20220707
DTEND;VALUE=DATE:20220708
DESCRIPTION:Tickets: https://ticket.wien.gv.at/baeder/floridsdorf/23387/\nV
 eranstalter: MA 44 Wiener Bäder
DTSTAMP:20260425T215656Z
SUMMARY:Badegäste Do.
END:VEVENT
END:VCALENDAR
