BEGIN:VCALENDAR
VERSION:2.0
PRODID:-//pretix//pretix-PROD_Wien//
BEGIN:VEVENT
UID:pretix-baeder-floridsdorf-22852@ticket.wien.gv.at
DTSTART;VALUE=DATE:20220619
DTEND;VALUE=DATE:20220620
DESCRIPTION:Tickets: https://ticket.wien.gv.at/baeder/floridsdorf/22852/\nV
 eranstalter: MA 44 Wiener Bäder
DTSTAMP:20260425T154758Z
SUMMARY:Badegäste So.
END:VEVENT
END:VCALENDAR
