BEGIN:VCALENDAR
VERSION:2.0
PRODID:-//pretix//pretix-PROD_Wien//
BEGIN:VEVENT
UID:pretix-baeder-floridsdorf-22289@ticket.wien.gv.at
DTSTART;VALUE=DATE:20220601
DTEND;VALUE=DATE:20220602
DESCRIPTION:Tickets: https://ticket.wien.gv.at/baeder/floridsdorf/22289/\nV
 eranstalter: MA 44 Wiener Bäder
DTSTAMP:20260425T201051Z
SUMMARY:Badegäste Mi.
END:VEVENT
END:VCALENDAR
