BEGIN:VCALENDAR
VERSION:2.0
PRODID:-//pretix//pretix-PROD_Wien//
BEGIN:VEVENT
UID:pretix-baeder-floridsdorf-21482@ticket.wien.gv.at
DTSTART;VALUE=DATE:20220507
DTEND;VALUE=DATE:20220508
DESCRIPTION:Tickets: https://ticket.wien.gv.at/baeder/floridsdorf/21482/\nV
 eranstalter: MA 44 Wiener Bäder
DTSTAMP:20260425T163501Z
SUMMARY:Badegäste Sa.
END:VEVENT
END:VCALENDAR
