BEGIN:VCALENDAR
VERSION:2.0
PRODID:-//pretix//pretix-PROD_Wien//
BEGIN:VEVENT
UID:pretix-baeder-floridsdorf-21221@ticket.wien.gv.at
DTSTART;VALUE=DATE:20220426
DTEND;VALUE=DATE:20220427
DESCRIPTION:Tickets: https://ticket.wien.gv.at/baeder/floridsdorf/21221/\nV
 eranstalter: MA 44 Wiener Bäder
DTSTAMP:20260425T215828Z
SUMMARY:Badegäste Di./Fr.
END:VEVENT
END:VCALENDAR
