BEGIN:VCALENDAR
VERSION:2.0
PRODID:-//pretix//pretix-PROD_Wien//
BEGIN:VEVENT
UID:pretix-baeder-floridsdorf-21198@ticket.wien.gv.at
DTSTART;VALUE=DATE:20220416
DTEND;VALUE=DATE:20220417
DESCRIPTION:Tickets: https://ticket.wien.gv.at/baeder/floridsdorf/21198/\nV
 eranstalter: MA 44 Wiener Bäder
DTSTAMP:20260425T201052Z
SUMMARY:Badegäste Sa.
END:VEVENT
END:VCALENDAR
