BEGIN:VCALENDAR
VERSION:2.0
PRODID:-//pretix//pretix-PROD_Wien//
BEGIN:VEVENT
UID:pretix-baeder-floridsdorf-21087@ticket.wien.gv.at
DTSTART;VALUE=DATE:20220407
DTEND;VALUE=DATE:20220408
DESCRIPTION:Tickets: https://ticket.wien.gv.at/baeder/floridsdorf/21087/\nV
 eranstalter: MA 44 Wiener Bäder
DTSTAMP:20260425T163508Z
SUMMARY:Badegäste Do.
END:VEVENT
END:VCALENDAR
