BEGIN:VCALENDAR
VERSION:2.0
PRODID:-//pretix//pretix-PROD_Wien//
BEGIN:VEVENT
UID:pretix-baeder-floridsdorf-20981@ticket.wien.gv.at
DTSTART;VALUE=DATE:20220331
DTEND;VALUE=DATE:20220401
DESCRIPTION:Tickets: https://ticket.wien.gv.at/baeder/floridsdorf/20981/\nV
 eranstalter: MA 44 Wiener Bäder
DTSTAMP:20260426T011409Z
SUMMARY:Badegäste Do.
END:VEVENT
END:VCALENDAR
