BEGIN:VCALENDAR
VERSION:2.0
PRODID:-//pretix//pretix-PROD_Wien//
BEGIN:VEVENT
UID:pretix-baeder-floridsdorf-20300@ticket.wien.gv.at
DTSTART;VALUE=DATE:20220215
DTEND;VALUE=DATE:20220216
DESCRIPTION:Tickets: https://ticket.wien.gv.at/baeder/floridsdorf/20300/\nV
 eranstalter: MA 44 Wiener Bäder
DTSTAMP:20260425T215654Z
SUMMARY:Badegäste Di./Fr.
END:VEVENT
END:VCALENDAR
