BEGIN:VCALENDAR
VERSION:2.0
PRODID:-//pretix//pretix-PROD_Wien//
BEGIN:VEVENT
UID:pretix-baeder-floridsdorf-20078@ticket.wien.gv.at
DTSTART;VALUE=DATE:20220129
DTEND;VALUE=DATE:20220130
DESCRIPTION:Tickets: https://ticket.wien.gv.at/baeder/floridsdorf/20078/\nV
 eranstalter: MA 44 Wiener Bäder
DTSTAMP:20260425T221527Z
SUMMARY:Badegäste Sa.
END:VEVENT
END:VCALENDAR
