BEGIN:VCALENDAR
VERSION:2.0
PRODID:-//pretix//pretix-PROD_Wien//
BEGIN:VEVENT
UID:pretix-baeder-floridsdorf-19778@ticket.wien.gv.at
DTSTART;VALUE=DATE:20220111
DTEND;VALUE=DATE:20220112
DESCRIPTION:Tickets: https://ticket.wien.gv.at/baeder/floridsdorf/19778/\nV
 eranstalter: MA 44 Wiener Bäder
DTSTAMP:20260425T190842Z
SUMMARY:Badegäste Di./Fr.
END:VEVENT
END:VCALENDAR
