BEGIN:VCALENDAR
VERSION:2.0
PRODID:-//pretix//pretix-PROD_Wien//
BEGIN:VEVENT
UID:pretix-baeder-floridsdorf-19744@ticket.wien.gv.at
DTSTART;VALUE=DATE:20220108
DTEND;VALUE=DATE:20220109
DESCRIPTION:Tickets: https://ticket.wien.gv.at/baeder/floridsdorf/19744/\nV
 eranstalter: MA 44 Wiener Bäder
DTSTAMP:20260425T163505Z
SUMMARY:Badegäste Sa.
END:VEVENT
END:VCALENDAR
