BEGIN:VCALENDAR
VERSION:2.0
PRODID:-//pretix//pretix-PROD_Wien//
BEGIN:VEVENT
UID:pretix-baeder-floridsdorf-19674@ticket.wien.gv.at
DTSTART;VALUE=DATE:20211230
DTEND;VALUE=DATE:20211231
DESCRIPTION:Tickets: https://ticket.wien.gv.at/baeder/floridsdorf/19674/\nV
 eranstalter: MA 44 Wiener Bäder
DTSTAMP:20260425T185335Z
SUMMARY:Ferien Badegäste 30.12.2021
END:VEVENT
END:VCALENDAR
