BEGIN:VCALENDAR
VERSION:2.0
PRODID:-//pretix//pretix-PROD_Wien//
BEGIN:VEVENT
UID:pretix-baeder-floridsdorf-19639@ticket.wien.gv.at
DTSTART;VALUE=DATE:20211226
DTEND;VALUE=DATE:20211227
DESCRIPTION:Tickets: https://ticket.wien.gv.at/baeder/floridsdorf/19639/\nV
 eranstalter: MA 44 Wiener Bäder
DTSTAMP:20260425T170801Z
SUMMARY:Ferien Badegäste 26.12.2021
END:VEVENT
END:VCALENDAR
