BEGIN:VCALENDAR
VERSION:2.0
PRODID:-//pretix//pretix-PROD_Wien//
BEGIN:VEVENT
UID:pretix-baeder-floridsdorf-19598@ticket.wien.gv.at
DTSTART;VALUE=DATE:20211222
DTEND;VALUE=DATE:20211223
DESCRIPTION:Tickets: https://ticket.wien.gv.at/baeder/floridsdorf/19598/\nV
 eranstalter: MA 44 Wiener Bäder
DTSTAMP:20260425T221524Z
SUMMARY:Badegäste Mi.
END:VEVENT
END:VCALENDAR
