BEGIN:VCALENDAR
VERSION:2.0
PRODID:-//pretix//pretix-PROD_Wien//
BEGIN:VEVENT
UID:pretix-baeder-floridsdorf-19505@ticket.wien.gv.at
DTSTART;VALUE=DATE:20211216
DTEND;VALUE=DATE:20211217
DESCRIPTION:Tickets: https://ticket.wien.gv.at/baeder/floridsdorf/19505/\nV
 eranstalter: MA 44 Wiener Bäder
DTSTAMP:20260425T190840Z
SUMMARY:Badegäste Do.
END:VEVENT
END:VCALENDAR
