BEGIN:VCALENDAR
VERSION:2.0
PRODID:-//pretix//pretix-PROD_Wien//
BEGIN:VEVENT
UID:pretix-baeder-floridsdorf-19234@ticket.wien.gv.at
DTSTART;VALUE=DATE:20211118
DTEND;VALUE=DATE:20211119
DESCRIPTION:Tickets: https://ticket.wien.gv.at/baeder/floridsdorf/19234/\nV
 eranstalter: MA 44 Wiener Bäder
DTSTAMP:20260425T170834Z
SUMMARY:Badegäste Do.
END:VEVENT
END:VCALENDAR
