BEGIN:VCALENDAR
VERSION:2.0
PRODID:-//pretix//pretix-PROD_Wien//
BEGIN:VEVENT
UID:pretix-baeder-floridsdorf-19107@ticket.wien.gv.at
DTSTART;VALUE=DATE:20211110
DTEND;VALUE=DATE:20211111
DESCRIPTION:Tickets: https://ticket.wien.gv.at/baeder/floridsdorf/19107/\nV
 eranstalter: MA 44 Wiener Bäder
DTSTAMP:20260425T201050Z
SUMMARY:Badegäste Mi.
END:VEVENT
END:VCALENDAR
