BEGIN:VCALENDAR
VERSION:2.0
PRODID:-//pretix//pretix-PROD_Wien//
BEGIN:VEVENT
UID:pretix-baeder-floridsdorf-18874@ticket.wien.gv.at
DTSTART;VALUE=DATE:20211022
DTEND;VALUE=DATE:20211023
DESCRIPTION:Tickets: https://ticket.wien.gv.at/baeder/floridsdorf/18874/\nV
 eranstalter: MA 44 Wiener Bäder
DTSTAMP:20260426T011408Z
SUMMARY:Badegäste Di./Fr.
END:VEVENT
END:VCALENDAR
