BEGIN:VCALENDAR
VERSION:2.0
PRODID:-//pretix//pretix-PROD_Wien//
BEGIN:VEVENT
UID:pretix-baeder-floridsdorf-18776@ticket.wien.gv.at
DTSTART;VALUE=DATE:20211016
DTEND;VALUE=DATE:20211017
DESCRIPTION:Tickets: https://ticket.wien.gv.at/baeder/floridsdorf/18776/\nV
 eranstalter: MA 44 Wiener Bäder
DTSTAMP:20260425T215655Z
SUMMARY:Badegäste Sa.
END:VEVENT
END:VCALENDAR
