BEGIN:VCALENDAR
VERSION:2.0
PRODID:-//pretix//pretix-PROD_Wien//
BEGIN:VEVENT
UID:pretix-baeder-floridsdorf-16851@ticket.wien.gv.at
DTSTART;VALUE=DATE:20211006
DTEND;VALUE=DATE:20211007
DESCRIPTION:Tickets: https://ticket.wien.gv.at/baeder/floridsdorf/16851/\nV
 eranstalter: MA 44 Wiener Bäder
DTSTAMP:20260426T015125Z
SUMMARY:Eintritt Floridsdorfer Bad
END:VEVENT
END:VCALENDAR
