BEGIN:VCALENDAR
VERSION:2.0
PRODID:-//pretix//pretix-PROD_Wien//
BEGIN:VEVENT
UID:pretix-baeder-floridsdorf-15978@ticket.wien.gv.at
DTSTART;VALUE=DATE:20211005
DTEND;VALUE=DATE:20211006
DESCRIPTION:Tickets: https://ticket.wien.gv.at/baeder/floridsdorf/15978/\nV
 eranstalter: MA 44 Wiener Bäder
DTSTAMP:20260425T163505Z
SUMMARY:Eintritt Floridsdorfer Bad
END:VEVENT
END:VCALENDAR
