BEGIN:VCALENDAR
VERSION:2.0
PRODID:-//pretix//pretix-PROD_Wien//
BEGIN:VEVENT
UID:pretix-baeder-floridsdorf-13495@ticket.wien.gv.at
DTSTART;VALUE=DATE:20211001
DTEND;VALUE=DATE:20211002
DESCRIPTION:Tickets: https://ticket.wien.gv.at/baeder/floridsdorf/13495/\nV
 eranstalter: MA 44 Wiener Bäder
DTSTAMP:20260425T174741Z
SUMMARY:Eintritt Floridsdorfer Bad
END:VEVENT
END:VCALENDAR
