BEGIN:VCALENDAR
VERSION:2.0
PRODID:-//pretix//pretix-PROD_Wien//
BEGIN:VEVENT
UID:pretix-baeder-doebling-71710@ticket.wien.gv.at
DTSTART;VALUE=DATE:20250908
DTEND;VALUE=DATE:20250909
DESCRIPTION:Tickets: https://ticket.wien.gv.at/baeder/doebling/71710/\nVera
 nstalter: MA 44 Wiener Bäder
DTSTAMP:20260421T033728Z
SUMMARY:Badegäste Freibad Mo-So
END:VEVENT
END:VCALENDAR
