BEGIN:VCALENDAR
VERSION:2.0
PRODID:-//pretix//pretix-PROD_Wien//
BEGIN:VEVENT
UID:pretix-baeder-doebling-69464@ticket.wien.gv.at
DTSTART;VALUE=DATE:20250801
DTEND;VALUE=DATE:20250802
DESCRIPTION:Tickets: https://ticket.wien.gv.at/baeder/doebling/69464/\nVera
 nstalter: MA 44 Wiener Bäder
DTSTAMP:20260421T114853Z
SUMMARY:Badegäste Freibad Mo-So
END:VEVENT
END:VCALENDAR
