BEGIN:VCALENDAR
VERSION:2.0
PRODID:-//pretix//pretix-PROD_Wien//
BEGIN:VEVENT
UID:pretix-baeder-doebling-69211@ticket.wien.gv.at
DTSTART;VALUE=DATE:20250722
DTEND;VALUE=DATE:20250723
DESCRIPTION:Tickets: https://ticket.wien.gv.at/baeder/doebling/69211/\nVera
 nstalter: MA 44 Wiener Bäder
DTSTAMP:20260422T010307Z
SUMMARY:Badegäste Freibad Mo-So
END:VEVENT
END:VCALENDAR
