BEGIN:VCALENDAR
VERSION:2.0
PRODID:-//pretix//pretix-PROD_Wien//
BEGIN:VEVENT
UID:pretix-baeder-doebling-69188@ticket.wien.gv.at
DTSTART;VALUE=DATE:20250721
DTEND;VALUE=DATE:20250722
DESCRIPTION:Tickets: https://ticket.wien.gv.at/baeder/doebling/69188/\nVera
 nstalter: MA 44 Wiener Bäder
DTSTAMP:20260420T230727Z
SUMMARY:Badegäste Freibad Mo-So
END:VEVENT
END:VCALENDAR
