BEGIN:VCALENDAR
VERSION:2.0
PRODID:-//pretix//pretix-PROD_Wien//
BEGIN:VEVENT
UID:pretix-baeder-doebling-68325@ticket.wien.gv.at
DTSTART;VALUE=DATE:20250629
DTEND;VALUE=DATE:20250630
DESCRIPTION:Tickets: https://ticket.wien.gv.at/baeder/doebling/68325/\nVera
 nstalter: MA 44 Wiener Bäder
DTSTAMP:20260421T171711Z
SUMMARY:Badegäste Freibad Mo-So
END:VEVENT
END:VCALENDAR
