BEGIN:VCALENDAR
VERSION:2.0
PRODID:-//pretix//pretix-PROD_Wien//
BEGIN:VEVENT
UID:pretix-baeder-doebling-67196@ticket.wien.gv.at
DTSTART;VALUE=DATE:20250614
DTEND;VALUE=DATE:20250615
DESCRIPTION:Tickets: https://ticket.wien.gv.at/baeder/doebling/67196/\nVera
 nstalter: MA 44 Wiener Bäder
DTSTAMP:20260423T115134Z
SUMMARY:Badegäste Freibad Mo-So
END:VEVENT
END:VCALENDAR
