BEGIN:VCALENDAR
VERSION:2.0
PRODID:-//pretix//pretix-PROD_Wien//
BEGIN:VEVENT
UID:pretix-baeder-doebling-66711@ticket.wien.gv.at
DTSTART;VALUE=DATE:20250605
DTEND;VALUE=DATE:20250606
DESCRIPTION:Tickets: https://ticket.wien.gv.at/baeder/doebling/66711/\nVera
 nstalter: MA 44 Wiener Bäder
DTSTAMP:20260425T191628Z
SUMMARY:Badegäste Freibad Mo-So
END:VEVENT
END:VCALENDAR
