BEGIN:VCALENDAR
VERSION:2.0
PRODID:-//pretix//pretix-PROD_Wien//
BEGIN:VEVENT
UID:pretix-baeder-doebling-64927@ticket.wien.gv.at
DTSTART;VALUE=DATE:20250509
DTEND;VALUE=DATE:20250510
DESCRIPTION:Tickets: https://ticket.wien.gv.at/baeder/doebling/64927/\nVera
 nstalter: MA 44 Wiener Bäder
DTSTAMP:20260422T050432Z
SUMMARY:Badegäste Freibad Mo-So
END:VEVENT
END:VCALENDAR
