BEGIN:VCALENDAR
VERSION:2.0
PRODID:-//pretix//pretix-PROD_Wien//
BEGIN:VEVENT
UID:pretix-baeder-doebling-64841@ticket.wien.gv.at
DTSTART;VALUE=DATE:20250506
DTEND;VALUE=DATE:20250507
DESCRIPTION:Tickets: https://ticket.wien.gv.at/baeder/doebling/64841/\nVera
 nstalter: MA 44 Wiener Bäder
DTSTAMP:20260422T043854Z
SUMMARY:Badegäste Freibad Mo-So
END:VEVENT
END:VCALENDAR
