BEGIN:VCALENDAR
VERSION:2.0
PRODID:-//pretix//pretix-PROD_Wien//
BEGIN:VEVENT
UID:pretix-baeder-doebling-64708@ticket.wien.gv.at
DTSTART;VALUE=DATE:20250429
DTEND;VALUE=DATE:20250430
DESCRIPTION:Tickets: https://ticket.wien.gv.at/baeder/doebling/64708/\nVera
 nstalter: MA 44 Wiener Bäder
DTSTAMP:20260422T031744Z
SUMMARY:Badegäste Di.
END:VEVENT
END:VCALENDAR
