BEGIN:VCALENDAR
VERSION:2.0
PRODID:-//pretix//pretix-PROD_Wien//
BEGIN:VEVENT
UID:pretix-baeder-doebling-64581@ticket.wien.gv.at
DTSTART;VALUE=DATE:20250423
DTEND;VALUE=DATE:20250424
DESCRIPTION:Tickets: https://ticket.wien.gv.at/baeder/doebling/64581/\nVera
 nstalter: MA 44 Wiener Bäder
DTSTAMP:20260426T000033Z
SUMMARY:Badegäste Mi./Do.
END:VEVENT
END:VCALENDAR
