BEGIN:VCALENDAR
VERSION:2.0
PRODID:-//pretix//pretix-PROD_Wien//
BEGIN:VEVENT
UID:pretix-baeder-doebling-63071@ticket.wien.gv.at
DTSTART;VALUE=DATE:20250316
DTEND;VALUE=DATE:20250317
DESCRIPTION:Tickets: https://ticket.wien.gv.at/baeder/doebling/63071/\nVera
 nstalter: MA 44 Wiener Bäder
DTSTAMP:20260426T000034Z
SUMMARY:Badegäste So.
END:VEVENT
END:VCALENDAR
