BEGIN:VCALENDAR
VERSION:2.0
PRODID:-//pretix//pretix-PROD_Wien//
BEGIN:VEVENT
UID:pretix-baeder-doebling-63000@ticket.wien.gv.at
DTSTART;VALUE=DATE:20250312
DTEND;VALUE=DATE:20250313
DESCRIPTION:Tickets: https://ticket.wien.gv.at/baeder/doebling/63000/\nVera
 nstalter: MA 44 Wiener Bäder
DTSTAMP:20260425T224316Z
SUMMARY:Badegäste Mi./Do.
END:VEVENT
END:VCALENDAR
