BEGIN:VCALENDAR
VERSION:2.0
PRODID:-//pretix//pretix-PROD_Wien//
BEGIN:VEVENT
UID:pretix-baeder-doebling-62892@ticket.wien.gv.at
DTSTART;VALUE=DATE:20250306
DTEND;VALUE=DATE:20250307
DESCRIPTION:Tickets: https://ticket.wien.gv.at/baeder/doebling/62892/\nVera
 nstalter: MA 44 Wiener Bäder
DTSTAMP:20260425T143218Z
SUMMARY:Badegäste Mi./Do.
END:VEVENT
END:VCALENDAR
