BEGIN:VCALENDAR
VERSION:2.0
PRODID:-//pretix//pretix-PROD_Wien//
BEGIN:VEVENT
UID:pretix-baeder-doebling-62861@ticket.wien.gv.at
DTSTART;VALUE=DATE:20250304
DTEND;VALUE=DATE:20250305
DESCRIPTION:Tickets: https://ticket.wien.gv.at/baeder/doebling/62861/\nVera
 nstalter: MA 44 Wiener Bäder
DTSTAMP:20260425T011959Z
SUMMARY:Badegäste Di.
END:VEVENT
END:VCALENDAR
