BEGIN:VCALENDAR
VERSION:2.0
PRODID:-//pretix//pretix-PROD_Wien//
BEGIN:VEVENT
UID:pretix-baeder-doebling-62546@ticket.wien.gv.at
DTSTART;VALUE=DATE:20250221
DTEND;VALUE=DATE:20250222
DESCRIPTION:Tickets: https://ticket.wien.gv.at/baeder/doebling/62546/\nVera
 nstalter: MA 44 Wiener Bäder
DTSTAMP:20260426T000034Z
SUMMARY:Badegäste Fr.
END:VEVENT
END:VCALENDAR
