BEGIN:VCALENDAR
VERSION:2.0
PRODID:-//pretix//pretix-PROD_Wien//
BEGIN:VEVENT
UID:pretix-baeder-doebling-61672@ticket.wien.gv.at
DTSTART;VALUE=DATE:20250206
DTEND;VALUE=DATE:20250207
DESCRIPTION:Tickets: https://ticket.wien.gv.at/baeder/doebling/61672/\nVera
 nstalter: MA 44 Wiener Bäder
DTSTAMP:20260425T215828Z
SUMMARY:Badegäste Ferien 06.02.2025
END:VEVENT
END:VCALENDAR
