BEGIN:VCALENDAR
VERSION:2.0
PRODID:-//pretix//pretix-PROD_Wien//
BEGIN:VEVENT
UID:pretix-baeder-doebling-5447@ticket.wien.gv.at
DTSTART;VALUE=DATE:20210709
DTEND;VALUE=DATE:20210710
DESCRIPTION:Tickets: https://ticket.wien.gv.at/baeder/doebling/5447/\nVeran
 stalter: MA 44 Wiener Bäder
DTSTAMP:20260420T074808Z
SUMMARY:Eintritt Döblinger Bad
END:VEVENT
END:VCALENDAR
